BEGIN:VCALENDAR
VERSION:2.0
PRODID:-//Godwin Mercado - ECPv6.15.20//NONSGML v1.0//EN
CALSCALE:GREGORIAN
METHOD:PUBLISH
X-WR-CALNAME:Godwin Mercado
X-ORIGINAL-URL:https://godwinmercado.com
X-WR-CALDESC:Events for Godwin Mercado
REFRESH-INTERVAL;VALUE=DURATION:PT1H
X-Robots-Tag:noindex
X-PUBLISHED-TTL:PT1H
BEGIN:VTIMEZONE
TZID:America/Detroit
BEGIN:DAYLIGHT
TZOFFSETFROM:-0500
TZOFFSETTO:-0400
TZNAME:EDT
DTSTART:20250309T070000
END:DAYLIGHT
BEGIN:STANDARD
TZOFFSETFROM:-0400
TZOFFSETTO:-0500
TZNAME:EST
DTSTART:20251102T060000
END:STANDARD
BEGIN:DAYLIGHT
TZOFFSETFROM:-0500
TZOFFSETTO:-0400
TZNAME:EDT
DTSTART:20260308T070000
END:DAYLIGHT
BEGIN:STANDARD
TZOFFSETFROM:-0400
TZOFFSETTO:-0500
TZNAME:EST
DTSTART:20261101T060000
END:STANDARD
BEGIN:DAYLIGHT
TZOFFSETFROM:-0500
TZOFFSETTO:-0400
TZNAME:EDT
DTSTART:20270314T070000
END:DAYLIGHT
BEGIN:STANDARD
TZOFFSETFROM:-0400
TZOFFSETTO:-0500
TZNAME:EST
DTSTART:20271107T060000
END:STANDARD
END:VTIMEZONE
BEGIN:VEVENT
DTSTART;TZID=America/Detroit:20261004T090000
DTEND;TZID=America/Detroit:20261004T140000
DTSTAMP:20260424T113933
CREATED:20260120T185430Z
LAST-MODIFIED:20260120T185430Z
UID:580-1791104400-1791122400@godwinmercado.com
SUMMARY:Farmers Market
DESCRIPTION:
URL:https://godwinmercado.com/event/farmers-market-20/
END:VEVENT
BEGIN:VEVENT
DTSTART;TZID=America/Detroit:20261011T090000
DTEND;TZID=America/Detroit:20261011T140000
DTSTAMP:20260424T113933
CREATED:20260120T185511Z
LAST-MODIFIED:20260120T185511Z
UID:582-1791709200-1791727200@godwinmercado.com
SUMMARY:Farmers Market
DESCRIPTION:
URL:https://godwinmercado.com/event/farmers-market-21/
END:VEVENT
BEGIN:VEVENT
DTSTART;TZID=America/Detroit:20261018T090000
DTEND;TZID=America/Detroit:20261018T140000
DTSTAMP:20260424T113933
CREATED:20260120T185542Z
LAST-MODIFIED:20260120T185542Z
UID:584-1792314000-1792332000@godwinmercado.com
SUMMARY:Farmers Market
DESCRIPTION:
URL:https://godwinmercado.com/event/farmers-market-22/
END:VEVENT
BEGIN:VEVENT
DTSTART;TZID=America/Detroit:20261025T090000
DTEND;TZID=America/Detroit:20261025T140000
DTSTAMP:20260424T113933
CREATED:20260120T185712Z
LAST-MODIFIED:20260120T185712Z
UID:586-1792918800-1792936800@godwinmercado.com
SUMMARY:Farmers Market
DESCRIPTION:
URL:https://godwinmercado.com/event/farmers-market-23/
END:VEVENT
END:VCALENDAR