BEGIN:VCALENDAR
VERSION:2.0
PRODID:-//Godwin Mercado - ECPv6.15.20//NONSGML v1.0//EN
CALSCALE:GREGORIAN
METHOD:PUBLISH
X-WR-CALNAME:Godwin Mercado
X-ORIGINAL-URL:https://godwinmercado.com
X-WR-CALDESC:Events for Godwin Mercado
REFRESH-INTERVAL;VALUE=DURATION:PT1H
X-Robots-Tag:noindex
X-PUBLISHED-TTL:PT1H
BEGIN:VTIMEZONE
TZID:America/Detroit
BEGIN:DAYLIGHT
TZOFFSETFROM:-0500
TZOFFSETTO:-0400
TZNAME:EDT
DTSTART:20250309T070000
END:DAYLIGHT
BEGIN:STANDARD
TZOFFSETFROM:-0400
TZOFFSETTO:-0500
TZNAME:EST
DTSTART:20251102T060000
END:STANDARD
BEGIN:DAYLIGHT
TZOFFSETFROM:-0500
TZOFFSETTO:-0400
TZNAME:EDT
DTSTART:20260308T070000
END:DAYLIGHT
BEGIN:STANDARD
TZOFFSETFROM:-0400
TZOFFSETTO:-0500
TZNAME:EST
DTSTART:20261101T060000
END:STANDARD
BEGIN:DAYLIGHT
TZOFFSETFROM:-0500
TZOFFSETTO:-0400
TZNAME:EDT
DTSTART:20270314T070000
END:DAYLIGHT
BEGIN:STANDARD
TZOFFSETFROM:-0400
TZOFFSETTO:-0500
TZNAME:EST
DTSTART:20271107T060000
END:STANDARD
END:VTIMEZONE
BEGIN:VEVENT
DTSTART;TZID=America/Detroit:20260913T090000
DTEND;TZID=America/Detroit:20260913T140000
DTSTAMP:20260424T082015
CREATED:20260120T185143Z
LAST-MODIFIED:20260120T185143Z
UID:574-1789290000-1789308000@godwinmercado.com
SUMMARY:Farmers Market
DESCRIPTION:
URL:https://godwinmercado.com/event/farmers-market-17/
END:VEVENT
BEGIN:VEVENT
DTSTART;TZID=America/Detroit:20260920T090000
DTEND;TZID=America/Detroit:20260920T140000
DTSTAMP:20260424T082015
CREATED:20260120T185214Z
LAST-MODIFIED:20260120T185214Z
UID:576-1789894800-1789912800@godwinmercado.com
SUMMARY:Farmers Market
DESCRIPTION:
URL:https://godwinmercado.com/event/farmers-market-18/
END:VEVENT
BEGIN:VEVENT
DTSTART;TZID=America/Detroit:20260927T090000
DTEND;TZID=America/Detroit:20260927T140000
DTSTAMP:20260424T082015
CREATED:20260120T185353Z
LAST-MODIFIED:20260120T185353Z
UID:578-1790499600-1790517600@godwinmercado.com
SUMMARY:Farmers Market
DESCRIPTION:
URL:https://godwinmercado.com/event/farmers-market-19/
END:VEVENT
END:VCALENDAR