BEGIN:VCALENDAR
VERSION:2.0
PRODID:-//Godwin Mercado - ECPv6.15.20//NONSGML v1.0//EN
CALSCALE:GREGORIAN
METHOD:PUBLISH
X-ORIGINAL-URL:https://godwinmercado.com
X-WR-CALDESC:Events for Godwin Mercado
REFRESH-INTERVAL;VALUE=DURATION:PT1H
X-Robots-Tag:noindex
X-PUBLISHED-TTL:PT1H
BEGIN:VTIMEZONE
TZID:America/Detroit
BEGIN:DAYLIGHT
TZOFFSETFROM:-0500
TZOFFSETTO:-0400
TZNAME:EDT
DTSTART:20250309T070000
END:DAYLIGHT
BEGIN:STANDARD
TZOFFSETFROM:-0400
TZOFFSETTO:-0500
TZNAME:EST
DTSTART:20251102T060000
END:STANDARD
BEGIN:DAYLIGHT
TZOFFSETFROM:-0500
TZOFFSETTO:-0400
TZNAME:EDT
DTSTART:20260308T070000
END:DAYLIGHT
BEGIN:STANDARD
TZOFFSETFROM:-0400
TZOFFSETTO:-0500
TZNAME:EST
DTSTART:20261101T060000
END:STANDARD
BEGIN:DAYLIGHT
TZOFFSETFROM:-0500
TZOFFSETTO:-0400
TZNAME:EDT
DTSTART:20270314T070000
END:DAYLIGHT
BEGIN:STANDARD
TZOFFSETFROM:-0400
TZOFFSETTO:-0500
TZNAME:EST
DTSTART:20271107T060000
END:STANDARD
END:VTIMEZONE
BEGIN:VEVENT
DTSTART;TZID=America/Detroit:20260802T090000
DTEND;TZID=America/Detroit:20260802T140000
DTSTAMP:20260424T070544
CREATED:20260120T183136Z
LAST-MODIFIED:20260120T184734Z
UID:563-1785661200-1785679200@godwinmercado.com
SUMMARY:Farmers Market
DESCRIPTION:
URL:https://godwinmercado.com/event/farmers-market-13/
END:VEVENT
BEGIN:VEVENT
DTSTART;TZID=America/Detroit:20260809T090000
DTEND;TZID=America/Detroit:20260809T140000
DTSTAMP:20260424T070544
CREATED:20260120T183208Z
LAST-MODIFIED:20260120T184741Z
UID:565-1786266000-1786284000@godwinmercado.com
SUMMARY:Farmers Market
DESCRIPTION:
URL:https://godwinmercado.com/event/farmers-market-14/
END:VEVENT
BEGIN:VEVENT
DTSTART;TZID=America/Detroit:20260816T090000
DTEND;TZID=America/Detroit:20260816T140000
DTSTAMP:20260424T070544
CREATED:20260120T184915Z
LAST-MODIFIED:20260120T184915Z
UID:568-1786870800-1786888800@godwinmercado.com
SUMMARY:Farmers Market
DESCRIPTION:
URL:https://godwinmercado.com/event/farmers-market-10/
END:VEVENT
BEGIN:VEVENT
DTSTART;TZID=America/Detroit:20260823T090000
DTEND;TZID=America/Detroit:20260823T140000
DTSTAMP:20260424T070544
CREATED:20260120T184949Z
LAST-MODIFIED:20260120T184949Z
UID:570-1787475600-1787493600@godwinmercado.com
SUMMARY:Farmers Market
DESCRIPTION:
URL:https://godwinmercado.com/event/farmers-market-15/
END:VEVENT
BEGIN:VEVENT
DTSTART;TZID=America/Detroit:20260830T090000
DTEND;TZID=America/Detroit:20260830T140000
DTSTAMP:20260424T070544
CREATED:20260120T185030Z
LAST-MODIFIED:20260120T185030Z
UID:572-1788080400-1788098400@godwinmercado.com
SUMMARY:Farmers Market
DESCRIPTION:
URL:https://godwinmercado.com/event/farmers-market-16/
END:VEVENT
END:VCALENDAR