BEGIN:VCALENDAR
VERSION:2.0
PRODID:-//Godwin Mercado - ECPv6.15.20//NONSGML v1.0//EN
CALSCALE:GREGORIAN
METHOD:PUBLISH
X-WR-CALNAME:Godwin Mercado
X-ORIGINAL-URL:https://godwinmercado.com
X-WR-CALDESC:Events for Godwin Mercado
REFRESH-INTERVAL;VALUE=DURATION:PT1H
X-Robots-Tag:noindex
X-PUBLISHED-TTL:PT1H
BEGIN:VTIMEZONE
TZID:America/Detroit
BEGIN:DAYLIGHT
TZOFFSETFROM:-0500
TZOFFSETTO:-0400
TZNAME:EDT
DTSTART:20250309T070000
END:DAYLIGHT
BEGIN:STANDARD
TZOFFSETFROM:-0400
TZOFFSETTO:-0500
TZNAME:EST
DTSTART:20251102T060000
END:STANDARD
BEGIN:DAYLIGHT
TZOFFSETFROM:-0500
TZOFFSETTO:-0400
TZNAME:EDT
DTSTART:20260308T070000
END:DAYLIGHT
BEGIN:STANDARD
TZOFFSETFROM:-0400
TZOFFSETTO:-0500
TZNAME:EST
DTSTART:20261101T060000
END:STANDARD
BEGIN:DAYLIGHT
TZOFFSETFROM:-0500
TZOFFSETTO:-0400
TZNAME:EDT
DTSTART:20270314T070000
END:DAYLIGHT
BEGIN:STANDARD
TZOFFSETFROM:-0400
TZOFFSETTO:-0500
TZNAME:EST
DTSTART:20271107T060000
END:STANDARD
END:VTIMEZONE
BEGIN:VEVENT
DTSTART;TZID=America/Detroit:20260607T090000
DTEND;TZID=America/Detroit:20260607T140000
DTSTAMP:20260420T083530
CREATED:20260120T182252Z
LAST-MODIFIED:20260120T184825Z
UID:547-1780822800-1780840800@godwinmercado.com
SUMMARY:Farmers Market
DESCRIPTION:
URL:https://godwinmercado.com/event/farmers-market-5/
END:VEVENT
BEGIN:VEVENT
DTSTART;TZID=America/Detroit:20260614T090000
DTEND;TZID=America/Detroit:20260614T140000
DTSTAMP:20260420T083530
CREATED:20260120T182326Z
LAST-MODIFIED:20260120T184657Z
UID:549-1781427600-1781445600@godwinmercado.com
SUMMARY:Farmers Market
DESCRIPTION:
URL:https://godwinmercado.com/event/farmers-market-6/
END:VEVENT
BEGIN:VEVENT
DTSTART;TZID=America/Detroit:20260621T090000
DTEND;TZID=America/Detroit:20260621T140000
DTSTAMP:20260420T083530
CREATED:20260120T182357Z
LAST-MODIFIED:20260120T184703Z
UID:551-1782032400-1782050400@godwinmercado.com
SUMMARY:Farmers Market
DESCRIPTION:
URL:https://godwinmercado.com/event/farmers-market-7/
END:VEVENT
BEGIN:VEVENT
DTSTART;TZID=America/Detroit:20260628T090000
DTEND;TZID=America/Detroit:20260628T140000
DTSTAMP:20260420T083530
CREATED:20260120T182709Z
LAST-MODIFIED:20260120T184709Z
UID:553-1782637200-1782655200@godwinmercado.com
SUMMARY:Farmers Market
DESCRIPTION:
URL:https://godwinmercado.com/event/farmers-market-8/
END:VEVENT
END:VCALENDAR